BEGIN:VCALENDAR
VERSION:2.0
PRODID:-//Digital Learning Texas - ECPv6.15.20//NONSGML v1.0//EN
CALSCALE:GREGORIAN
METHOD:PUBLISH
X-WR-CALNAME:Digital Learning Texas
X-ORIGINAL-URL:https://dltx.highered.texas.gov
X-WR-CALDESC:Events for Digital Learning Texas
REFRESH-INTERVAL;VALUE=DURATION:PT1H
X-Robots-Tag:noindex
X-PUBLISHED-TTL:PT1H
BEGIN:VTIMEZONE
TZID:America/Chicago
BEGIN:DAYLIGHT
TZOFFSETFROM:-0600
TZOFFSETTO:-0500
TZNAME:CDT
DTSTART:20240310T080000
END:DAYLIGHT
BEGIN:STANDARD
TZOFFSETFROM:-0500
TZOFFSETTO:-0600
TZNAME:CST
DTSTART:20241103T070000
END:STANDARD
BEGIN:DAYLIGHT
TZOFFSETFROM:-0600
TZOFFSETTO:-0500
TZNAME:CDT
DTSTART:20250309T080000
END:DAYLIGHT
BEGIN:STANDARD
TZOFFSETFROM:-0500
TZOFFSETTO:-0600
TZNAME:CST
DTSTART:20251102T070000
END:STANDARD
BEGIN:DAYLIGHT
TZOFFSETFROM:-0600
TZOFFSETTO:-0500
TZNAME:CDT
DTSTART:20260308T080000
END:DAYLIGHT
BEGIN:STANDARD
TZOFFSETFROM:-0500
TZOFFSETTO:-0600
TZNAME:CST
DTSTART:20261101T070000
END:STANDARD
BEGIN:DAYLIGHT
TZOFFSETFROM:-0600
TZOFFSETTO:-0500
TZNAME:CDT
DTSTART:20270314T080000
END:DAYLIGHT
BEGIN:STANDARD
TZOFFSETFROM:-0500
TZOFFSETTO:-0600
TZNAME:CST
DTSTART:20271107T070000
END:STANDARD
END:VTIMEZONE
BEGIN:VEVENT
DTSTART;VALUE=DATE:20260210
DTEND;VALUE=DATE:20260212
DTSTAMP:20260419T222708
CREATED:20251001T175835Z
LAST-MODIFIED:20251201T202500Z
UID:10000014-1770681600-1770854399@dltx.highered.texas.gov
SUMMARY:Digital Learning (DL) Summit 2026
DESCRIPTION:Two days featuring dynamic sessions\, innovative pedagogy\, and networking with leaders from across Texas. This year’s theme is The Power of Practice: Transforming Experience into Innovation. \n 
URL:https://dltx.highered.texas.gov/event/digital-learning-dl-summit-2026/
CATEGORIES:Digital Learning Summit
LOCATION:
END:VEVENT
BEGIN:VEVENT
DTSTART;TZID=America/Chicago:20250521T150000
DTEND;TZID=America/Chicago:20250521T160000
DTSTAMP:20260419T222708
CREATED:20250122T193622Z
LAST-MODIFIED:20250225T205513Z
UID:10000005-1747839600-1747843200@dltx.highered.texas.gov
SUMMARY:Digital Learning Horizons: Next Gen Higher Ed Innovations
DESCRIPTION:Join this exciting series of lightning talks\, showcasing how emerging technologies beyond AI are transforming the landscape of higher education: enhancing research capabilities\, improving student success\, and revolutionizing operations. \nClick to Register for Digital Learning Horizons: Next Gen Higher Ed Innovations 
URL:https://dltx.highered.texas.gov/event/digital-learning-horizons-next-gen-higher-ed-innovations/
CATEGORIES:Webinar
END:VEVENT
BEGIN:VEVENT
DTSTART;TZID=America/Chicago:20250520T150000
DTEND;TZID=America/Chicago:20250520T160000
DTSTAMP:20260419T222708
CREATED:20250225T210400Z
LAST-MODIFIED:20250225T210400Z
UID:10000012-1747753200-1747756800@dltx.highered.texas.gov
SUMMARY:Ensuring High-Quality OER: A Community Session on Evaluation and Peer Review
DESCRIPTION:Bring your own OER! This session will focus on the growing need for support in evaluating and ensuring the quality of OER. Participants will be introduced to established rubrics designed specifically for evaluating the quality of OER. The session will also offer practical strategies for conducting peer reviews\, including the use of rubrics\, feedback mechanisms\, and collaborative review processes. Participants will have the opportunity to apply the concepts and tools learned during the workshop through hands-on activities.  \nRegister for the High-Quality OER session. 
URL:https://dltx.highered.texas.gov/event/ensuring-high-quality-oer-a-community-session-on-evaluation-and-peer-review/
CATEGORIES:Webinar
END:VEVENT
BEGIN:VEVENT
DTSTART;TZID=America/Chicago:20250507T150000
DTEND;TZID=America/Chicago:20250507T160000
DTSTAMP:20260419T222708
CREATED:20250225T210308Z
LAST-MODIFIED:20250227T190829Z
UID:10000011-1746630000-1746633600@dltx.highered.texas.gov
SUMMARY:Leveraging AI to Enhance Open Educational Practices and OER Creation
DESCRIPTION:Research in Texas shows that institutions are increasingly focusing on the benefits of open pedagogy in addition to adopting OER. This session will explore how OER advocates are leveraging AI to enhance the creation and adaptation of OER. Participants will have opportunities to connect and engage with each other around how they might utilize AI to advance their OER work and engage open pedagogical practices.  \nRegister for the AI & OER session.  
URL:https://dltx.highered.texas.gov/event/leveraging-ai-to-enhance-open-educational-practices-and-oer-creation/
CATEGORIES:Webinar
END:VEVENT
BEGIN:VEVENT
DTSTART;TZID=America/Chicago:20250430T150000
DTEND;TZID=America/Chicago:20250430T160000
DTSTAMP:20260419T222708
CREATED:20250122T193543Z
LAST-MODIFIED:20250416T203731Z
UID:10000004-1746025200-1746028800@dltx.highered.texas.gov
SUMMARY:RESCHEDULED from April 16th: AI for Student Wellbeing: Tutoring\, Advising\, and Beyond
DESCRIPTION:Learn from a panel of experts about innovative AI-driven solutions they are using to enhance student success and wellbeing. Whether you are an administrator\, staff member\, or faculty\, this session will provide valuable knowledge and practical strategies to integrate AI into a wide range of student support services. \nThis webinar was rescheduled from April 16th due to Zoom outages. \nRegister for AI for Student Wellbeing: Tutoring\, Advising\, and Beyond
URL:https://dltx.highered.texas.gov/event/ai-for-student-wellbeing-tutoring-advising-and-beyond/
CATEGORIES:Webinar
END:VEVENT
BEGIN:VEVENT
DTSTART;TZID=America/Chicago:20250325T150000
DTEND;TZID=America/Chicago:20250325T160000
DTSTAMP:20260419T222708
CREATED:20250225T210120Z
LAST-MODIFIED:20250225T210120Z
UID:10000010-1742914800-1742918400@dltx.highered.texas.gov
SUMMARY:OER & Accessibility
DESCRIPTION:This session will showcase how educators are making OER more accessible with the five SLIDE practices of styles\, links\, images\, design\, and evaluation. Participants will have opportunities to connect and engage with each other around how they might incorporate the SLIDE practices into the design of their OER.  \nRegister for the OER & Accessibility session.  
URL:https://dltx.highered.texas.gov/event/oer-accessibility/
CATEGORIES:Webinar
END:VEVENT
BEGIN:VEVENT
DTSTART;TZID=America/Chicago:20250319T150000
DTEND;TZID=America/Chicago:20250319T160000
DTSTAMP:20260419T222708
CREATED:20250122T193437Z
LAST-MODIFIED:20250225T205348Z
UID:10000003-1742396400-1742400000@dltx.highered.texas.gov
SUMMARY:Agility Framework in Adapting to Innovation
DESCRIPTION:Dive deep into the Agility Framework\, a structure developed by the THECB Division of Digital Learning for guiding action in adapting to emerging technologies and innovation. Members of the Learning Technology Advisory Committee’s Adapting to Innovation Subcommittee will discuss resources that can be used for institutional landscape analysis and stakeholder engagement\, as well as practical strategies for implementing AI solutions and fostering a culture of innovation. \nClick to Register for Agility Framework in Adapting to Innovation
URL:https://dltx.highered.texas.gov/event/agility-framework-in-adapting-to-innovation/
CATEGORIES:Webinar
END:VEVENT
BEGIN:VEVENT
DTSTART;TZID=America/Chicago:20250306T100000
DTEND;TZID=America/Chicago:20250306T111500
DTSTAMP:20260419T222708
CREATED:20250225T205956Z
LAST-MODIFIED:20250226T164857Z
UID:10000009-1741255200-1741259700@dltx.highered.texas.gov
SUMMARY:Town Hall on AI and Accreditation: Shaping the Future of Higher Ed Together
DESCRIPTION:Join us for an engaging Town Hall hosted by the Southern Regional Education Board and the Texas Higher Education Coordinating Board. This collaborative discussion will bring together higher education administrators\, staff\, and faculty from across the country to explore the transformative potential of AI in higher education through the lens of institutional and program accreditation. Building on open education values of free knowledge sharing and collaboration\, we will specifically discuss how developing policies and practices for using AI align to emerging guidelines from accreditors. Do not miss this opportunity to shape the future of innovation in higher education! \nRegister for the Town Hall on AI and Accreditation Session
URL:https://dltx.highered.texas.gov/event/town-hall-on-ai-shaping-the-future-of-higher-ed-together/
CATEGORIES:Webinar
END:VEVENT
BEGIN:VEVENT
DTSTART;TZID=America/Chicago:20250305T150000
DTEND;TZID=America/Chicago:20250305T160000
DTSTAMP:20260419T222708
CREATED:20250225T205823Z
LAST-MODIFIED:20250225T205837Z
UID:10000008-1741186800-1741190400@dltx.highered.texas.gov
SUMMARY:OER & Universal Design for Learning (UDL) Guidelines
DESCRIPTION:This session will showcase how educators are designing OER to meet the needs of every learner with CAST’s Universal Design for Learning (UDL) Guidelines of engagement\, representation\, action and expression. Participants will have opportunities to connect and engage with each other around how they might incorporate the guidelines into their OER work. \nRegister for the OER & UDL Session 
URL:https://dltx.highered.texas.gov/event/oer-universal-design-for-learning-udl-guidelines/
CATEGORIES:Webinar
END:VEVENT
BEGIN:VEVENT
DTSTART;TZID=America/Chicago:20250304T100000
DTEND;TZID=America/Chicago:20250304T110000
DTSTAMP:20260419T222708
CREATED:20250225T205708Z
LAST-MODIFIED:20250225T205718Z
UID:10000007-1741082400-1741086000@dltx.highered.texas.gov
SUMMARY:Celebrate OE Week with the THECB
DESCRIPTION:We will kick off the week by highlighting our robust OER portfolio including the release of insights from our AI and OER focus groups\, the launch of the 2025 OER Landscape Survey\, and the unveiling of our redesigned DLTX website. OE Week provides an opportunity to explore our expanded professional development calendar for spring and summer 2025.  We are introducing a new series of OER Community Sessions\, bringing back our signature OER Academies\, and opening applications for the Year 2 cohort of the OER Fellowship Program. \nRegister for the Celebrate OE Week with the THECB session
URL:https://dltx.highered.texas.gov/event/celebrate-oe-week-with-the-thecb/
CATEGORIES:Webinar
END:VEVENT
BEGIN:VEVENT
DTSTART;TZID=America/Chicago:20250219T150000
DTEND;TZID=America/Chicago:20250219T160000
DTSTAMP:20260419T222708
CREATED:20250224T153832Z
LAST-MODIFIED:20250225T205056Z
UID:10000006-1739977200-1739980800@dltx.highered.texas.gov
SUMMARY:Texas AI Integration Showcase
DESCRIPTION:Discover innovative and interesting ways that Texas institutions of higher education are leveraging AI. This webinar was designed for anyone who is eager to explore how AI can be used to enhance learning\, streamline operations\, and drive educational excellence. Discover real-world applications\, gain valuable insights from Texas peers\, and get a preview of the new Adapting to Innovation hub on OERTX! \nLink to the recording is coming soon!
URL:https://dltx.highered.texas.gov/event/texas-ai-integration-showcase/
CATEGORIES:Webinar
END:VEVENT
BEGIN:VEVENT
DTSTART;VALUE=DATE:20250211
DTEND;VALUE=DATE:20250213
DTSTAMP:20260419T222708
CREATED:20250122T185753Z
LAST-MODIFIED:20250227T191111Z
UID:10000001-1739232000-1739404799@dltx.highered.texas.gov
SUMMARY:Digital Learning Summit
DESCRIPTION:The theme for this year’s conference was Choosing Agility: Adapting to a New Era of Innovation in Digital Learning. The free\, virtual event included an opportunity for institutions to host Idea Exchanges at their campuses using a host facilitator guide.
URL:https://dltx.highered.texas.gov/event/digital-learning-summit/
CATEGORIES:Digital Learning Summit
END:VEVENT
END:VCALENDAR